BEGIN:VCALENDAR
VERSION:2.0
PRODID:-//VMCC IOM Section - ECPv6.15.20//NONSGML v1.0//EN
CALSCALE:GREGORIAN
METHOD:PUBLISH
X-WR-CALNAME:VMCC IOM Section
X-ORIGINAL-URL:https://www.vmcciom.org
X-WR-CALDESC:Events for VMCC IOM Section
REFRESH-INTERVAL;VALUE=DURATION:PT1H
X-Robots-Tag:noindex
X-PUBLISHED-TTL:PT1H
BEGIN:VTIMEZONE
TZID:Europe/London
BEGIN:DAYLIGHT
TZOFFSETFROM:+0000
TZOFFSETTO:+0100
TZNAME:BST
DTSTART:20250330T010000
END:DAYLIGHT
BEGIN:STANDARD
TZOFFSETFROM:+0100
TZOFFSETTO:+0000
TZNAME:GMT
DTSTART:20251026T010000
END:STANDARD
BEGIN:DAYLIGHT
TZOFFSETFROM:+0000
TZOFFSETTO:+0100
TZNAME:BST
DTSTART:20260329T010000
END:DAYLIGHT
BEGIN:STANDARD
TZOFFSETFROM:+0100
TZOFFSETTO:+0000
TZNAME:GMT
DTSTART:20261025T010000
END:STANDARD
BEGIN:DAYLIGHT
TZOFFSETFROM:+0000
TZOFFSETTO:+0100
TZNAME:BST
DTSTART:20270328T010000
END:DAYLIGHT
BEGIN:STANDARD
TZOFFSETFROM:+0100
TZOFFSETTO:+0000
TZNAME:GMT
DTSTART:20271031T010000
END:STANDARD
END:VTIMEZONE
BEGIN:VEVENT
DTSTART;VALUE=DATE:20260425
DTEND;VALUE=DATE:20260427
DTSTAMP:20260426T020137
CREATED:20260103T232607Z
LAST-MODIFIED:20260104T121848Z
UID:5638-1777075200-1777247999@www.vmcciom.org
SUMMARY:The Classic Motorcycle Mechanics Show - Stafford
DESCRIPTION:The International Classic Motorcycle Show – StaffordFor further information visit their website at:  https://www.classicbikeshows.com/stafford
URL:https://www.vmcciom.org/event/the-classic-motorcycle-mechanics-show-stafford/
CATEGORIES:Bike Show
END:VEVENT
BEGIN:VEVENT
DTSTART;TZID=Europe/London:20260426T140000
DTEND;TZID=Europe/London:20260426T170000
DTSTAMP:20260426T020137
CREATED:20260104T121902Z
LAST-MODIFIED:20260104T121902Z
UID:5747-1777212000-1777222800@www.vmcciom.org
SUMMARY:Tulip Road Run
DESCRIPTION:Signing on from 1.30 for a 2.00 start.Join in on a ride around the Manx countryside on your Vintage\, Classic or modern bike.  Finishing up with a conversation with Tea and Cakes.
URL:https://www.vmcciom.org/event/tulip-road-run-2/
CATEGORIES:Road Run
ORGANIZER;CN="Norman Cowin":MAILTO:normancowin@yahoo.com
END:VEVENT
END:VCALENDAR