BEGIN:VCALENDAR
VERSION:2.0
PRODID:-//VMCC IOM Section - ECPv6.15.20//NONSGML v1.0//EN
CALSCALE:GREGORIAN
METHOD:PUBLISH
X-ORIGINAL-URL:https://www.vmcciom.org
X-WR-CALDESC:Events for VMCC IOM Section
REFRESH-INTERVAL;VALUE=DURATION:PT1H
X-Robots-Tag:noindex
X-PUBLISHED-TTL:PT1H
BEGIN:VTIMEZONE
TZID:Europe/London
BEGIN:DAYLIGHT
TZOFFSETFROM:+0000
TZOFFSETTO:+0100
TZNAME:BST
DTSTART:20250330T010000
END:DAYLIGHT
BEGIN:STANDARD
TZOFFSETFROM:+0100
TZOFFSETTO:+0000
TZNAME:GMT
DTSTART:20251026T010000
END:STANDARD
BEGIN:DAYLIGHT
TZOFFSETFROM:+0000
TZOFFSETTO:+0100
TZNAME:BST
DTSTART:20260329T010000
END:DAYLIGHT
BEGIN:STANDARD
TZOFFSETFROM:+0100
TZOFFSETTO:+0000
TZNAME:GMT
DTSTART:20261025T010000
END:STANDARD
BEGIN:DAYLIGHT
TZOFFSETFROM:+0000
TZOFFSETTO:+0100
TZNAME:BST
DTSTART:20270328T010000
END:DAYLIGHT
BEGIN:STANDARD
TZOFFSETFROM:+0100
TZOFFSETTO:+0000
TZNAME:GMT
DTSTART:20271031T010000
END:STANDARD
END:VTIMEZONE
BEGIN:VEVENT
DTSTART;TZID=Europe/London:20260301T090000
DTEND;TZID=Europe/London:20260301T160000
DTSTAMP:20260425T225730
CREATED:20260104T121843Z
LAST-MODIFIED:20260104T121843Z
UID:5736-1772355600-1772380800@www.vmcciom.org
SUMMARY:Autojumble
DESCRIPTION:The second annual Autojumble will be held at Andreas Hall\, Andreas\,  Tables can be hired for £10\, please contact Rupert at mudy916@gmail.com.  Motorbikes can also be sold.
URL:https://www.vmcciom.org/event/autojumble-4/
CATEGORIES:Social
ORGANIZER;CN="Gary Corlett":MAILTO:secretary@vmcciom.org
END:VEVENT
END:VCALENDAR